BEGIN:VCALENDAR
VERSION:2.0
METHOD:PUBLISH
PRODID:-//Agenda.ad//NONSGML v1.0//EN
BEGIN:VEVENT
CLASS:PUBLIC
UID:1b058f85315cdf5877e496d368376134@agenda.ad
DTSTAMP:20260422T004103Z
DTSTART:20191018T220000Z
DTEND:20191018T220000Z
SUMMARY:<p><strong>DISSABTES DE CUINA &middot; '<strong>QUE BONES LES VERDURES!'</strong></strong></p>
DESCRIPTION:NOVETAT TALLER PER A FAMÍLIES\n\nMés informació\nht
 tps://www.agenda.ad/activitat/escaldes-engordany/activitats-
 infantils/dissabtes-de-cuina- que-bones-les-verdures!-novet
 at-taller-per-families-\n\n\nOrganitza\nComú d'Escaldes-Eng
 ordany
LOCATION:Llar de jubilats
SEQUENCE:0
TRANSP:OPAQUE
X-ALT-DESC;FMTTYPE=text/html:<!DOCTYPE HTML PUBLIC "-//W3C//DTD HTML 3.2//EN"><HTML><HEAD
 ><TITLE></TITLE></HEAD><BODY><FONT FACE="Arial" SIZE=2><stro
 ng><strong>NOVETAT TALLER PER A FAM&Iacute;LIES</strong></st
 rong><br/><br/><b>Més informació</b><br/><a href="https://
 www.agenda.ad/activitat/escaldes-engordany/activitats-infant
 ils/dissabtes-de-cuina- que-bones-les-verdures!-novetat-tal
 ler-per-families-">https://www.agenda.ad/activitat/escaldes-
 engordany/activitats-infantils/dissabtes-de-cuina- que-bone
 s-les-verdures!-novetat-taller-per-families-</a><br/><br/><b
 r/><b>Organitza</b><br/>Comú d'Escaldes-Engordany</FONT></B
 ODY></HTML>
END:VEVENT
END:VCALENDAR